BEGIN:VCALENDAR
VERSION:2.0
PRODID:-//fgazette.com - ECPv6.15.20//NONSGML v1.0//EN
CALSCALE:GREGORIAN
METHOD:PUBLISH
X-ORIGINAL-URL:https://fgazette.com
X-WR-CALDESC:Events for fgazette.com
REFRESH-INTERVAL;VALUE=DURATION:PT1H
X-Robots-Tag:noindex
X-PUBLISHED-TTL:PT1H
BEGIN:VTIMEZONE
TZID:America/Chicago
BEGIN:DAYLIGHT
TZOFFSETFROM:-0600
TZOFFSETTO:-0500
TZNAME:CDT
DTSTART:20220313T080000
END:DAYLIGHT
BEGIN:STANDARD
TZOFFSETFROM:-0500
TZOFFSETTO:-0600
TZNAME:CST
DTSTART:20221106T070000
END:STANDARD
BEGIN:DAYLIGHT
TZOFFSETFROM:-0600
TZOFFSETTO:-0500
TZNAME:CDT
DTSTART:20230312T080000
END:DAYLIGHT
BEGIN:STANDARD
TZOFFSETFROM:-0500
TZOFFSETTO:-0600
TZNAME:CST
DTSTART:20231105T070000
END:STANDARD
BEGIN:DAYLIGHT
TZOFFSETFROM:-0600
TZOFFSETTO:-0500
TZNAME:CDT
DTSTART:20240310T080000
END:DAYLIGHT
BEGIN:STANDARD
TZOFFSETFROM:-0500
TZOFFSETTO:-0600
TZNAME:CST
DTSTART:20241103T070000
END:STANDARD
END:VTIMEZONE
BEGIN:VEVENT
DTSTART;TZID=America/Chicago:20230701T210000
DTEND;TZID=America/Chicago:20230701T210000
DTSTAMP:20260421T163516
CREATED:20230706T175816Z
LAST-MODIFIED:20230706T181500Z
UID:1928-1688245200-1688245200@fgazette.com
SUMMARY:Fireworks  Over Lake D'Arbonne
DESCRIPTION:Ready for a night to remember? The Union Parish Chamber of Commerce is gearing up for our annual fireworks display over Lake D’arbonne\, with Ludwig Marine stepping in as our title sponsor in addition to our Golden and Silver Sponsors! \n\n\n\nSet the date – July 1st. When the clock strikes 9 PM\, the sky will come alive with a dazzling array of colors. Find us on Highway 33 at Ramp Road\, right where the magic is set to happen. \n\n\n\nIt’s the perfect time to get together with friends and family\, enjoy the beautiful surroundings\, and take in the sights as fireworks mirror the stars over Lake D’arbonne. This year’s show is shaping up to be something special\, and we can’t wait to share it with you. \n\n\n\nBe a part of the excitement and let’s make this a night to remember together. And while you’re there\, share the love and your best snapshots on social media using our official hashtags. See you there!
URL:https://fgazette.com/event/fireworks-over-lake-darbonne/
CATEGORIES:Holiday
ATTACH;FMTTYPE=image/jpeg:https://fgazette.com/wp-content/uploads/2023/06/fireworks.jpeg
END:VEVENT
END:VCALENDAR